BEGIN:VCALENDAR
VERSION:2.0
PRODID:-//Global Allergy and Asthma Excellence Network - ECPv6.15.20//NONSGML v1.0//EN
CALSCALE:GREGORIAN
METHOD:PUBLISH
X-ORIGINAL-URL:https://sandbox.global-allergy.network
X-WR-CALDESC:Events for Global Allergy and Asthma Excellence Network
REFRESH-INTERVAL;VALUE=DURATION:PT1H
X-Robots-Tag:noindex
X-PUBLISHED-TTL:PT1H
BEGIN:VTIMEZONE
TZID:Europe/Copenhagen
BEGIN:DAYLIGHT
TZOFFSETFROM:+0100
TZOFFSETTO:+0200
TZNAME:CEST
DTSTART:20220327T010000
END:DAYLIGHT
BEGIN:STANDARD
TZOFFSETFROM:+0200
TZOFFSETTO:+0100
TZNAME:CET
DTSTART:20221030T010000
END:STANDARD
BEGIN:DAYLIGHT
TZOFFSETFROM:+0100
TZOFFSETTO:+0200
TZNAME:CEST
DTSTART:20230326T010000
END:DAYLIGHT
BEGIN:STANDARD
TZOFFSETFROM:+0200
TZOFFSETTO:+0100
TZNAME:CET
DTSTART:20231029T010000
END:STANDARD
BEGIN:DAYLIGHT
TZOFFSETFROM:+0100
TZOFFSETTO:+0200
TZNAME:CEST
DTSTART:20240331T010000
END:DAYLIGHT
BEGIN:STANDARD
TZOFFSETFROM:+0200
TZOFFSETTO:+0100
TZNAME:CET
DTSTART:20241027T010000
END:STANDARD
END:VTIMEZONE
BEGIN:VEVENT
DTSTART;TZID=Europe/Copenhagen:20230914T120000
DTEND;TZID=Europe/Copenhagen:20230914T124500
DTSTAMP:20260420T183808
CREATED:20230911T122857Z
LAST-MODIFIED:20250120T120131Z
UID:5424-1694692800-1694695500@sandbox.global-allergy.network
SUMMARY:LevelUP UCARE Journal Club
DESCRIPTION:Dear UCARE physicians\, \n coming Thursday (September 14th)\, the LevelUP GA²LENETWORK UCARE Journal Club will be held by Nian Liu (IFA) about “Siglec-9 is an inhibitory receptor on human mast cells in vitro” – Miralda et al.\, 2023\, JACI \n  \nClick here to join the meeting. \n  \nFind the article below and please join us. If you are a UCARE physician and  would like to present a paper\, please get in touch with us via email (julia.foellATga2len.berlin)\, we would love to have you! \nArticle
URL:https://sandbox.global-allergy.network/event/levelup-ga%c2%b2len-ucare-journal-club/
CATEGORIES:Journal club
END:VEVENT
END:VCALENDAR